BEGIN:VCALENDAR
VERSION:2.0
PRODID:-//wp-events-plugin.com//7.2.3.1//EN
TZID:America/New_York
X-WR-TIMEZONE:America/New_York
BEGIN:VEVENT
UID:92@cuyastro.org
DTSTART;TZID=America/New_York:20260413T193000
DTEND;TZID=America/New_York:20260413T210000
DTSTAMP:20260211T125949Z
URL:https://cuyastro.org/events/2026-caa-monthly-lecture-and-meeting-2026-
 01-12-2026-02-09-2026-03-09-2026-04-13/
SUMMARY:2026 CAA Monthly Lecture and Meeting
DESCRIPTION:Guest Speaker : CAA member\, Kathy Neugebauer will discuss her 
 Journey to Astrophotography
CATEGORIES:CAA Monthly Lecture and Meeting
LOCATION:Telfer Hall - Baldwin Wallace University\, 336 Front St\, Berea\, 
 Ohio\, 44017\, United States
GEO:41.374428;-81.852019
X-APPLE-STRUCTURED-LOCATION;VALUE=URI;X-ADDRESS=336 Front St\, Berea\, Ohio
 \, 44017\, United States;X-APPLE-RADIUS=100;X-TITLE=Telfer Hall - Baldwin 
 Wallace University:geo:41.374428,-81.852019
END:VEVENT
BEGIN:VTIMEZONE
TZID:America/New_York
X-LIC-LOCATION:America/New_York
BEGIN:DAYLIGHT
DTSTART:20260308T030000
TZOFFSETFROM:-0500
TZOFFSETTO:-0400
TZNAME:EDT
END:DAYLIGHT
END:VTIMEZONE
END:VCALENDAR