BEGIN:VCALENDAR
VERSION:2.0
PRODID:-//wp-events-plugin.com//7.2.3.1//EN
TZID:America/New_York
X-WR-TIMEZONE:America/New_York
BEGIN:VEVENT
UID:88@cuyastro.org
DTSTART;TZID=America/New_York:20261109T193000
DTEND;TZID=America/New_York:20261109T210000
DTSTAMP:20260211T124302Z
URL:https://cuyastro.org/events/2026-caa-monthly-lecture-and-meeting-2026-
 11-09/
SUMMARY:2026 CAA Monthly Lecture and Meeting
DESCRIPTION:Guest Speaker : TBA
CATEGORIES:CAA Monthly Lecture and Meeting
LOCATION:Telfer Hall - Baldwin Wallace University\, 336 Front St\, Berea\, 
 Ohio\, 44017\, United States
GEO:41.374428;-81.852019
X-APPLE-STRUCTURED-LOCATION;VALUE=URI;X-ADDRESS=336 Front St\, Berea\, Ohio
 \, 44017\, United States;X-APPLE-RADIUS=100;X-TITLE=Telfer Hall - Baldwin 
 Wallace University:geo:41.374428,-81.852019
END:VEVENT
BEGIN:VTIMEZONE
TZID:America/New_York
X-LIC-LOCATION:America/New_York
BEGIN:STANDARD
DTSTART:20261101T010000
TZOFFSETFROM:-0400
TZOFFSETTO:-0500
TZNAME:EST
END:STANDARD
END:VTIMEZONE
END:VCALENDAR